BEGIN:VCALENDAR
VERSION:2.0
PRODID:gruene-salzkotten.de
METHOD:PUBLISH
BEGIN:VTIMEZONE
TZID:Europe/Berlin
X-LIC-LOCATION:Europe/Berlin
BEGIN:DAYLIGHT
TZOFFSETFROM:+0100
TZOFFSETTO:+0200
TZNAME:CEST
DTSTART:19700329T020000
RRULE:FREQ=YEARLY;INTERVAL=1;BYDAY=-1SU;BYMONTH=3
END:DAYLIGHT
BEGIN:STANDARD
TZOFFSETFROM:+0200
TZOFFSETTO:+0100
TZNAME:CET
DTSTART:19701025T030000
RRULE:FREQ=YEARLY;INTERVAL=1;BYDAY=-1SU;BYMONTH=10
END:STANDARD
END:VTIMEZONE
BEGIN:VEVENT
UID:734683827305d0ace4be206271d182bf@gruene-salzkotten.de
URL;VALUE=URI:https://gruene-salzkotten.de/termine/wahlkampfstand-salzkot
 ten-bahnhof/
LOCATION:Salzkotten Bahnhof
SUMMARY:Wahlkampfstand Salzkotten Bahnhof
DESCRIPTION;ALTREP="data:text/html,":
CLASS:PUBLIC
DTSTART;TZID=Europe/Berlin:20250905T070000
DTEND;TZID=Europe/Berlin:20250905T090000
DTSTAMP:20260422T201628
END:VEVENT
END:VCALENDAR