BEGIN:VCALENDAR
VERSION:2.0
PRODID:gruene-salzkotten.de
METHOD:PUBLISH
BEGIN:VTIMEZONE
TZID:Europe/Berlin
X-LIC-LOCATION:Europe/Berlin
BEGIN:DAYLIGHT
TZOFFSETFROM:+0100
TZOFFSETTO:+0200
TZNAME:CEST
DTSTART:19700329T020000
RRULE:FREQ=YEARLY;INTERVAL=1;BYDAY=-1SU;BYMONTH=3
END:DAYLIGHT
BEGIN:STANDARD
TZOFFSETFROM:+0200
TZOFFSETTO:+0100
TZNAME:CET
DTSTART:19701025T030000
RRULE:FREQ=YEARLY;INTERVAL=1;BYDAY=-1SU;BYMONTH=10
END:STANDARD
END:VTIMEZONE
BEGIN:VEVENT
UID:fd8d00065fedfae839e0fa1f5d39749e@gruene-salzkotten.de
URL;VALUE=URI:https://gruene-salzkotten.de/termine/spielplatzfest/
LOCATION:Spielplatz „auf den Behnen“, Salzkotten
SUMMARY:Spielplatzfest
DESCRIPTION;ALTREP="data:text/html,%0A%3Cp%3ETrefft%20Johnna%20Lindenblat
 t%20unsere%20B%C3%BCrgermeisterkandidatin%20und%20viele%20unserer%20Kandi
 dat%2Ainnen%20vor%20Ort%21%20Eis%20von%20Valentina%2C%20gute%20Gespr%C3%A
 4che%20und%20kalte%20Getr%C3%A4nke%20warten%20ebenfalls%20auf%20euch.%3C%
 2Fp%3E%0A%0A%0A%0A%3Cp%3E%3C%2Fp%3E%0A":Trefft Johnna Lindenblatt unsere 
 Bürgermeisterkandidatin und viele unserer Kandidat*innen vor Ort! Eis vo
 n Valentina\, gute Gespräche und kalte Getränke warten ebenfalls auf eu
 ch.
CLASS:PUBLIC
DTSTART;TZID=Europe/Berlin:20250725T153000
DTEND;TZID=Europe/Berlin:20250725T163000
DTSTAMP:20260422T201551
END:VEVENT
END:VCALENDAR