BEGIN:VCALENDAR
VERSION:2.0
PRODID:gruene-salzkotten.de
METHOD:PUBLISH
BEGIN:VTIMEZONE
TZID:Europe/Berlin
X-LIC-LOCATION:Europe/Berlin
BEGIN:DAYLIGHT
TZOFFSETFROM:+0100
TZOFFSETTO:+0200
TZNAME:CEST
DTSTART:19700329T020000
RRULE:FREQ=YEARLY;INTERVAL=1;BYDAY=-1SU;BYMONTH=3
END:DAYLIGHT
BEGIN:STANDARD
TZOFFSETFROM:+0200
TZOFFSETTO:+0100
TZNAME:CET
DTSTART:19701025T030000
RRULE:FREQ=YEARLY;INTERVAL=1;BYDAY=-1SU;BYMONTH=10
END:STANDARD
END:VTIMEZONE
BEGIN:VEVENT
UID:7e4b3c83f29202c2be0bf833cff5f2d5@gruene-salzkotten.de
URL;VALUE=URI:https://gruene-salzkotten.de/termine/ortsverbandtreffen/
LOCATION:Raumteilchen, Paderborner Str. 6, Salzkotten
SUMMARY:Ortsverbandstreffen / offene Fraktionssitzung
DESCRIPTION;ALTREP="data:text/html,%0A%3Cp%3E%C3%96ffentliches%20Treffen%
 20der%20Ortsverbandes%20im%20Raumteilchen%20%28Paderborner%20Stra%C3%9Fe%
 206%29%20und%20Online%3A%20%3Ca%20href%3D%22https%3A%2F%2Fmeet.gruene.de%
 2Fgr%25c3%25bcnesalzkotten%22%3EMeet%20Gr%C3%BCne%3C%2Fa%3E%3C%2Fp%3E%0A"
 :Öffentliches Treffen der Ortsverbandes im Raumteilchen (Paderborner Str
 aße 6) und Online: Meet Grüne
CLASS:PUBLIC
DTSTART;TZID=Europe/Berlin:20240903T193000
DTEND;TZID=Europe/Berlin:20240903T220000
DTSTAMP:20260422T201551
END:VEVENT
END:VCALENDAR