BEGIN:VCALENDAR
VERSION:2.0
PRODID:gruene-salzkotten.de
METHOD:PUBLISH
BEGIN:VTIMEZONE
TZID:Europe/Berlin
X-LIC-LOCATION:Europe/Berlin
BEGIN:DAYLIGHT
TZOFFSETFROM:+0100
TZOFFSETTO:+0200
TZNAME:CEST
DTSTART:19700329T020000
RRULE:FREQ=YEARLY;INTERVAL=1;BYDAY=-1SU;BYMONTH=3
END:DAYLIGHT
BEGIN:STANDARD
TZOFFSETFROM:+0200
TZOFFSETTO:+0100
TZNAME:CET
DTSTART:19701025T030000
RRULE:FREQ=YEARLY;INTERVAL=1;BYDAY=-1SU;BYMONTH=10
END:STANDARD
END:VTIMEZONE
BEGIN:VEVENT
UID:70361e5faeac1d3014564f4f1e1033bc@gruene-salzkotten.de
URL;VALUE=URI:https://gruene-salzkotten.de/termine/ortsverbands-fraktions
 sitzung-online/
LOCATION:Online
SUMMARY:Ortsverbands-/Fraktionssitzung – online!
DESCRIPTION;ALTREP="data:text/html,%0A%3Cp%3EWir%20treffen%20uns%20zu%20e
 iner%20gemeinsamen%20Fraktions-%2FOrtsverbandssitzung.%20Die%20Sitzung%20
 findet%20online%20statt.%20Der%20Link%20kann%20%C3%BCber%20unsere%20Konta
 ktseite%20angefragt%20werden.%3C%2Fp%3E%0A":Wir treffen uns zu einer geme
 insamen Fraktions-/Ortsverbandssitzung. Die Sitzung findet online statt. 
 Der Link kann über unsere Kontaktseite angefragt werden.
CLASS:PUBLIC
DTSTART;TZID=Europe/Berlin:20241028T193000
DTEND;TZID=Europe/Berlin:20241028T203000
DTSTAMP:20260422T201629
END:VEVENT
END:VCALENDAR