BEGIN:VCALENDAR
VERSION:2.0
PRODID:gruene-salzkotten.de
METHOD:PUBLISH
BEGIN:VTIMEZONE
TZID:Europe/Berlin
X-LIC-LOCATION:Europe/Berlin
BEGIN:DAYLIGHT
TZOFFSETFROM:+0100
TZOFFSETTO:+0200
TZNAME:CEST
DTSTART:19700329T020000
RRULE:FREQ=YEARLY;INTERVAL=1;BYDAY=-1SU;BYMONTH=3
END:DAYLIGHT
BEGIN:STANDARD
TZOFFSETFROM:+0200
TZOFFSETTO:+0100
TZNAME:CET
DTSTART:19701025T030000
RRULE:FREQ=YEARLY;INTERVAL=1;BYDAY=-1SU;BYMONTH=10
END:STANDARD
END:VTIMEZONE
BEGIN:VEVENT
UID:6271c93447a1a451caf783f944249e7b@gruene-salzkotten.de
URL;VALUE=URI:https://gruene-salzkotten.de/termine/muellsammelaktion/
LOCATION:
SUMMARY:Müllsammelaktion
DESCRIPTION;ALTREP="data:text/html,%0A%3Cp%3EAm%20%3Cstrong%3ESamstag%2C%
 20den%205.%20Juli%3C%2Fstrong%3E%2C%20laden%20die%20Gr%C3%BCnen%20alle%20
 B%C3%BCrger%2Ainnen%20zur%20gro%C3%9Fen%20%3Cstrong%3EM%C3%BCllsammelakti
 on%3C%2Fstrong%3E%20ein.%20Los%20geht%E2%80%99s%20um%20%3Cstrong%3E14%3A0
 0%20Uhr%3C%2Fstrong%3E%3Cspan%3E%20%E2%80%93%20mit%20vier%20Treffpunkten%
 20im%20Stadtgebiet%2C%20von%20denen%20aus%20die%20Sammelteams%20starten%3
 A%20%3C%2Fspan%3E%3C%2Fp%3E%0A%0A%0A%0A%3Cul%20class%3D%22wp-block-list%2
 2%3E%0A%3Cli%3Eam%20%3Cstrong%3EFamilienzentrum%20Kuhbusch%3C%2Fstrong%3E
 %2C%C2%A0%3C%2Fli%3E%0A%3C%2Ful%3E%0A%0A%0A%0A%3Cul%20class%3D%22wp-block
 -list%22%3E%0A%3Cli%3Eam%20%3Cstrong%3EBahnhof%20%28Nordseite%29%3C%2Fstr
 ong%3E%2C%C2%A0%3C%2Fli%3E%0A%3C%2Ful%3E%0A%0A%0A%0A%3Cul%20class%3D%22wp
 -block-list%22%3E%0A%3Cli%3Ebei%20den%20%3Cstrong%3E%C3%84rzteh%C3%A4user
 n%20An%20der%20Burg%3C%2Fstrong%3E%2C%C2%A0%3C%2Fli%3E%0A%3C%2Ful%3E%0A%0
 A%0A%0A%3Cul%20class%3D%22wp-block-list%22%3E%0A%3Cli%3Esowie%20an%20der%
 20%3Cstrong%3EHaltestelle%20Post%20%2F%20Eingang%20zum%20Naturschutzgebie
 t%3C%2Fstrong%3E.%C2%A0%3C%2Fli%3E%0A%3C%2Ful%3E%0A%0A%0A%0A%3Cp%3EZiel%2
 0der%20Aktion%20ist%20es%2C%20gemeinsam%20Wege%2C%20Pl%C3%A4tze%20und%20N
 aturfl%C3%A4chen%20rund%20um%20Salzkotten%20zu%20s%C3%A4ubern%20%E2%80%93
 %20aber%20auch%2C%20%3Cstrong%3Eden%20Austausch%20im%20Ort%20zu%20f%C3%B6
 rdern%20und%20das%20Gemeinschaftsgef%C3%BChl%20zu%20st%C3%A4rken%3C%2Fstr
 ong%3E.%20Jede%20helfende%20Hand%20ist%20willkommen%20%E2%80%93%20ob%20ju
 ng%20oder%20alt%2C%20allein%2C%20mit%20Familie%20oder%20Freunden.%26nbsp%
 3B%3C%2Fp%3E%0A%0A%0A%0A%3Cp%3EUnterst%C3%BCtzt%20wird%20die%20Aktion%20v
 on%20%3Cstrong%3EJohanna%20Lindenblatt%3C%2Fstrong%3E%2C%20gemeinsame%20B
 %C3%BCrgermeisterkandidatin%20von%20SPD%20und%20Gr%C3%BCnen%2C%20sowie%20
 von%20%3Cstrong%3ECarsten%20Birkelbach%3C%2Fstrong%3E%2C%20Landratskandid
 at%20der%20Gr%C3%BCnen%20und%20den%20%3Cstrong%3EStadtratskandidat%2Ainne
 n%3C%2Fstrong%3E%20der%20Gr%C3%BCnen.%20Alle%20werden%20mit%20anpacken%20
 und%20freuen%20sich%20auf%20pers%C3%B6nliche%20Gespr%C3%A4che%20mit%20den
 %20B%C3%BCrger%2Ainnen.%26nbsp%3B%3C%2Fp%3E%0A%0A%0A%0A%3Cp%3E%3Cstrong%3
 EIm%20Anschluss%3C%2Fstrong%3E%20laden%20wir%20alle%20Teilnehmenden%20zu%
 20einem%20%3Cstrong%3Egem%C3%BCtlichen%20Beisammensein%20im%20Franz-Klein
 e-Park%3C%2Fstrong%3E%3Cspan%3E%20ein.%20Bei%20Getr%C3%A4nken%20und%20Kuc
 hen%20entsteht%20Raum%20f%C3%BCr%20Begegnung%2C%20neue%20Kontakte%20und%2
 0den%20gemeinsamen%20Blick%20in%20die%20Zukunft%20%E2%80%93%20f%C3%BCr%20
 ein%20lebendiges%2C%20engagiertes%20Salzkotten.%20%3C%2Fspan%3E%3C%2Fp%3E
 %0A%0A%0A%0A%3Cp%3E%3Cstrong%3EM%C3%BCllzangen%20und%20Sammelmaterial%20w
 erden%20gestellt%3C%2Fstrong%3E%3Cspan%3E%20%E2%80%93%20einfach%20wettera
 ngepasste%20Kleidung%20anziehen%20und%20mitmachen%21%20Festes%20Schuhwerk
 %20und%20Handschuhe%20werden%20empfohlen.%20%3C%2Fspan%3E%3C%2Fp%3E%0A%0A
 %0A%0A%3Cp%3E%3Cstrong%3EJetzt%20vormerken%3A%20Samstag%2C%205.%20Juli%2C
 %2014%3A00%20Uhr%20%E2%80%93%20Treffpunkt%20w%C3%A4hlen%20und%20dabei%20s
 ein%21%20Gemeinsam%20f%C3%BCr%20ein%20sauberes%20Salzkotten%20und%20ein%2
 0starkes%20Miteinander.%3C%2Fstrong%3E%26nbsp%3B%3C%2Fp%3E%0A%0A%0A%0A%3C
 p%3E%3C%2Fp%3E%0A":Am Samstag\, den 5. Juli\, laden die Grünen alle Bür
 ger*innen zur großen Müllsammelaktion ein. Los geht’s um 14:00 Uhr 
 – mit vier Treffpunkten im Stadtgebiet\, von denen aus die Sammelteams 
 starten:\n\nam Familienzentrum Kuhbusch\, \n\nam Bahnhof (Nordseite)\, 
 \n\nbei den Ärztehäusern An der Burg\, \n\nsowie an der Haltestelle Po
 st / Eingang zum Naturschutzgebiet. \n\nZiel der Aktion ist es\, gemeins
 am Wege\, Plätze und Naturflächen rund um Salzkotten zu säubern – ab
 er auch\, den Austausch im Ort zu fördern und das Gemeinschaftsgefühl z
 u stärken. Jede helfende Hand ist willkommen – ob jung oder alt\, alle
 in\, mit Familie oder Freunden. \n\nUnterstützt wird die Aktion von Joh
 anna Lindenblatt\, gemeinsame Bürgermeisterkandidatin von SPD und Grüne
 n\, sowie von Carsten Birkelbach\, Landratskandidat der Grünen und den S
 tadtratskandidat*innen der Grünen. Alle werden mit anpacken und freuen s
 ich auf persönliche Gespräche mit den Bürger*innen. \n\nIm Anschluss 
 laden wir alle Teilnehmenden zu einem gemütlichen Beisammensein im Franz
 -Kleine-Park ein. Bei Getränken und Kuchen entsteht Raum für Begegnung\
 , neue Kontakte und den gemeinsamen Blick in die Zukunft – für ein leb
 endiges\, engagiertes Salzkotten.\n\nMüllzangen und Sammelmaterial werde
 n gestellt – einfach wetterangepasste Kleidung anziehen und mitmachen! 
 Festes Schuhwerk und Handschuhe werden empfohlen.\n\nJetzt vormerken: Sam
 stag\, 5. Juli\, 14:00 Uhr – Treffpunkt wählen und dabei sein! Gemeins
 am für ein sauberes Salzkotten und ein starkes Miteinander. 
CLASS:PUBLIC
DTSTART;TZID=Europe/Berlin:20250705T140000
DTEND;TZID=Europe/Berlin:20250705T150000
DTSTAMP:20260422T201531
END:VEVENT
END:VCALENDAR