BEGIN:VCALENDAR
VERSION:2.0
PRODID:gruene-salzkotten.de
METHOD:PUBLISH
BEGIN:VTIMEZONE
TZID:Europe/Berlin
X-LIC-LOCATION:Europe/Berlin
BEGIN:DAYLIGHT
TZOFFSETFROM:+0100
TZOFFSETTO:+0200
TZNAME:CEST
DTSTART:19700329T020000
RRULE:FREQ=YEARLY;INTERVAL=1;BYDAY=-1SU;BYMONTH=3
END:DAYLIGHT
BEGIN:STANDARD
TZOFFSETFROM:+0200
TZOFFSETTO:+0100
TZNAME:CET
DTSTART:19701025T030000
RRULE:FREQ=YEARLY;INTERVAL=1;BYDAY=-1SU;BYMONTH=10
END:STANDARD
END:VTIMEZONE
BEGIN:VEVENT
UID:6f661bb77a7b1695b856eab39149f365@gruene-salzkotten.de
URL;VALUE=URI:https://gruene-salzkotten.de/termine/monatliches-treffen-de
 s-ortsverbands/
LOCATION:Raumteilchen, Paderborner Str. 6
SUMMARY:Monatliches Treffen des Ortsverbands
DESCRIPTION;ALTREP="data:text/html,%0A%3Cp%3EWir%20kommen%20ins%20Raumtei
 lchen%20zu%20unserem%20monatlichen%20Treffen.%20Themen%20werden%20die%20N
 achlese%20der%20Bundestagswahl%20und%20wie%20wir%20uns%20f%C3%BCr%20die%2
 0Kommunalwahl%20aufstellen%20wollen.%20G%C3%A4ste%20sind%20immer%20gerne%
 20gesehen%21%3C%2Fp%3E%0A%0A%0A%0A%3Cp%3E%3C%2Fp%3E%0A":Wir kommen ins Ra
 umteilchen zu unserem monatlichen Treffen. Themen werden die Nachlese der
  Bundestagswahl und wie wir uns für die Kommunalwahl aufstellen wollen. 
 Gäste sind immer gerne gesehen!
CLASS:PUBLIC
DTSTART;TZID=Europe/Berlin:20250226T190000
DTEND;TZID=Europe/Berlin:20250226T210000
DTSTAMP:20260422T201628
END:VEVENT
END:VCALENDAR