BEGIN:VCALENDAR
VERSION:2.0
PRODID:gruene-salzkotten.de
METHOD:PUBLISH
BEGIN:VTIMEZONE
TZID:Europe/Berlin
X-LIC-LOCATION:Europe/Berlin
BEGIN:DAYLIGHT
TZOFFSETFROM:+0100
TZOFFSETTO:+0200
TZNAME:CEST
DTSTART:19700329T020000
RRULE:FREQ=YEARLY;INTERVAL=1;BYDAY=-1SU;BYMONTH=3
END:DAYLIGHT
BEGIN:STANDARD
TZOFFSETFROM:+0200
TZOFFSETTO:+0100
TZNAME:CET
DTSTART:19701025T030000
RRULE:FREQ=YEARLY;INTERVAL=1;BYDAY=-1SU;BYMONTH=10
END:STANDARD
END:VTIMEZONE
BEGIN:VEVENT
UID:f72f7d6772994ab7b1f7b3b1cddd5caa@gruene-salzkotten.de
URL;VALUE=URI:https://gruene-salzkotten.de/termine/fraktionssitzung-7/
LOCATION:
SUMMARY:Fraktionssitzung
DESCRIPTION;ALTREP="data:text/html,%0A%3Cp%3EThemen%3A%20Hauptausschuss%2
 C%20Bauausschuss%2C%20Betriebsausschuss%3C%2Fp%3E%0A":Themen: Hauptaussch
 uss\, Bauausschuss\, Betriebsausschuss
CLASS:PUBLIC
DTSTART;TZID=Europe/Berlin:20250827T190000
DTEND;TZID=Europe/Berlin:20250827T210000
DTSTAMP:20260422T201417
END:VEVENT
END:VCALENDAR