BEGIN:VCALENDAR
VERSION:2.0
PRODID:gruene-salzkotten.de
METHOD:PUBLISH
BEGIN:VTIMEZONE
TZID:Europe/Berlin
X-LIC-LOCATION:Europe/Berlin
BEGIN:DAYLIGHT
TZOFFSETFROM:+0100
TZOFFSETTO:+0200
TZNAME:CEST
DTSTART:19700329T020000
RRULE:FREQ=YEARLY;INTERVAL=1;BYDAY=-1SU;BYMONTH=3
END:DAYLIGHT
BEGIN:STANDARD
TZOFFSETFROM:+0200
TZOFFSETTO:+0100
TZNAME:CET
DTSTART:19701025T030000
RRULE:FREQ=YEARLY;INTERVAL=1;BYDAY=-1SU;BYMONTH=10
END:STANDARD
END:VTIMEZONE
BEGIN:VEVENT
UID:174e99431738ecfdd5012ed46980952f@gruene-salzkotten.de
URL;VALUE=URI:https://gruene-salzkotten.de/termine/fraktionssitzung-3/
LOCATION:Raumteilchen
SUMMARY:Fraktionssitzung
DESCRIPTION;ALTREP="data:text/html,%0A%3Cp%3EThemen%3A%20%3Cbr%20%2F%3ETO
 %20SchuFaSo%3B%20%3Cbr%20%2F%3EBetrieb%3B%20%3Cbr%20%2F%3EHaupt%3C%2Fp%3E
 %0A%0A%0A%0A%3Cp%3EAntr%C3%A4ge%3A%20%3Cbr%20%2F%3EBau%3B%20%3Cbr%20%2F%3
 ERat%3B%20%3Cbr%20%2F%3EJuKuSpo%3B%20%3Cbr%20%2F%3ESchuFaSo%3C%2Fp%3E%0A"
 :Themen: TO SchuFaSo\; Betrieb\; Haupt\n\nAnträge: Bau\; Rat\; JuKuSpo\;
  SchuFaSo
CLASS:PUBLIC
DTSTART;TZID=Europe/Berlin:20250324T190000
DTEND;TZID=Europe/Berlin:20250324T210000
DTSTAMP:20260422T201456
END:VEVENT
END:VCALENDAR