BEGIN:VCALENDAR
VERSION:2.0
PRODID:gruene-salzkotten.de
METHOD:PUBLISH
BEGIN:VTIMEZONE
TZID:Europe/Berlin
X-LIC-LOCATION:Europe/Berlin
BEGIN:DAYLIGHT
TZOFFSETFROM:+0100
TZOFFSETTO:+0200
TZNAME:CEST
DTSTART:19700329T020000
RRULE:FREQ=YEARLY;INTERVAL=1;BYDAY=-1SU;BYMONTH=3
END:DAYLIGHT
BEGIN:STANDARD
TZOFFSETFROM:+0200
TZOFFSETTO:+0100
TZNAME:CET
DTSTART:19701025T030000
RRULE:FREQ=YEARLY;INTERVAL=1;BYDAY=-1SU;BYMONTH=10
END:STANDARD
END:VTIMEZONE
BEGIN:VEVENT
UID:ab7dc6f792fe0b6d156fe9dec329378a@gruene-salzkotten.de
URL;VALUE=URI:https://gruene-salzkotten.de/termine/fraktionssitzung-2/
LOCATION:
SUMMARY:Fraktionssitzung
DESCRIPTION;ALTREP="data:text/html,%0A%3Cp%3EThemen%3A%20%3Cbr%20%2F%3EJu
 KuSpo%3B%20%3Cbr%20%2F%3EBau%3C%2Fp%3E%0A%0A%0A%0A%3Cp%3EAntr%C3%A4ge%3A%
 20%3Cbr%20%2F%3ESchuFaSo%3B%20%3Cbr%20%2F%3EBetrieb%3B%20%3Cbr%20%2F%3EHa
 upt%3C%2Fp%3E%0A":Themen: JuKuSpo\; Bau\n\nAnträge: SchuFaSo\; Betrieb\;
  Haupt
CLASS:PUBLIC
DTSTART;TZID=Europe/Berlin:20250217T200000
DTEND;TZID=Europe/Berlin:20250217T220000
DTSTAMP:20260422T201418
END:VEVENT
END:VCALENDAR