BEGIN:VCALENDAR
VERSION:2.0
PRODID:gruene-salzkotten.de
METHOD:PUBLISH
BEGIN:VTIMEZONE
TZID:Europe/Berlin
X-LIC-LOCATION:Europe/Berlin
BEGIN:DAYLIGHT
TZOFFSETFROM:+0100
TZOFFSETTO:+0200
TZNAME:CEST
DTSTART:19700329T020000
RRULE:FREQ=YEARLY;INTERVAL=1;BYDAY=-1SU;BYMONTH=3
END:DAYLIGHT
BEGIN:STANDARD
TZOFFSETFROM:+0200
TZOFFSETTO:+0100
TZNAME:CET
DTSTART:19701025T030000
RRULE:FREQ=YEARLY;INTERVAL=1;BYDAY=-1SU;BYMONTH=10
END:STANDARD
END:VTIMEZONE
BEGIN:VEVENT
UID:1580b3f14ff3f2572af268437e974928@gruene-salzkotten.de
URL;VALUE=URI:https://gruene-salzkotten.de/termine/fraktionssitzung/
LOCATION:Rathaus, Marktstraße 8, Salzkotten
SUMMARY:Fraktionssitzung
DESCRIPTION;ALTREP="data:text/html,%0A%3Cp%3EThema%3A%20%3Cbr%20%2F%3ETO%
 3A%20Rat%2C%3Cbr%20%2F%3EWahlausschuss%2C%3Cbr%20%2F%3EHauptausschuss%2C%
 3C%2Fp%3E%0A%0A%0A%0A%3Cp%3EAntr%C3%A4ge%20f%C3%BCr%3A%20%3Cbr%20%2F%3EJu
 KuSpo%3B%20%3Cbr%20%2F%3EBau%3C%2Fp%3E%0A%0A%0A%0A%3Cp%3E%3C%2Fp%3E%0A":T
 hema: TO: Rat\,Wahlausschuss\,Hauptausschuss\,\n\nAnträge für: JuKuSpo\
 ; Bau
CLASS:PUBLIC
DTSTART;TZID=Europe/Berlin:20250121T190000
DTEND;TZID=Europe/Berlin:20250121T220000
DTSTAMP:20260422T201402
END:VEVENT
END:VCALENDAR