BEGIN:VCALENDAR
VERSION:2.0
PRODID:gruene-salzkotten.de
METHOD:PUBLISH
BEGIN:VTIMEZONE
TZID:Europe/Berlin
X-LIC-LOCATION:Europe/Berlin
BEGIN:DAYLIGHT
TZOFFSETFROM:+0100
TZOFFSETTO:+0200
TZNAME:CEST
DTSTART:19700329T020000
RRULE:FREQ=YEARLY;INTERVAL=1;BYDAY=-1SU;BYMONTH=3
END:DAYLIGHT
BEGIN:STANDARD
TZOFFSETFROM:+0200
TZOFFSETTO:+0100
TZNAME:CET
DTSTART:19701025T030000
RRULE:FREQ=YEARLY;INTERVAL=1;BYDAY=-1SU;BYMONTH=10
END:STANDARD
END:VTIMEZONE
BEGIN:VEVENT
UID:c8d94bbe073093d1d4f184bf41deaa52@gruene-salzkotten.de
URL;VALUE=URI:https://gruene-salzkotten.de/termine/betriebsausschuss/
LOCATION:Rathaus, Marktstraße 8, 33154 Salzkotten, Sitzungssaal
SUMMARY:Betriebsausschuss
DESCRIPTION;ALTREP="data:text/html,%3Cp%3ELink%20zur%20Tagesordnung%3A%20
 https%3A%2F%2Frim.salzkotten.de%2Ftops%2F%3F__%3DUGhVM0hpd2NXNFdFcExjZU5Q
 8Dls6DpCdhgKTuAfuB0%3C%2Fp%3E":Link zur Tagesordnung: https://rim.salzkot
 ten.de/tops/?__=UGhVM0hpd2NXNFdFcExjZU5Q8Dls6DpCdhgKTuAfuB0
CLASS:PUBLIC
DTSTART;TZID=Europe/Berlin:20260909T180000
DTEND;TZID=Europe/Berlin:20260909T190000
DTSTAMP:20260422T201613
END:VEVENT
END:VCALENDAR